BEGIN:VCALENDAR
VERSION:2.0
PRODID:-//Tukios.com/
BEGIN:VEVENT
UID:6374d179-f5dd-4c8a-a5e4-3d45b7fc76cf@www.waldofuneralhome.com
DTSTAMP:20260423T190042Z
DTSTART:20260425T200000Z
DTEND:20260425T220000Z
SUMMARY:Visitation
DESCRIPTION:
URL:https://www.waldofuneralhome.com/obituaries/brian-knight
LOCATION:Waldo Funeral Home chapel 619 N Travis St  Sherman TX 75090
GEO:33.6421333;-96.6106504
END:VEVENT
END:VCALENDAR