BEGIN:VCALENDAR
VERSION:2.0
PRODID:-//Tukios.com/
BEGIN:VEVENT
UID:a72aeba3-69c8-4f44-885a-f9c7cec5fc82@www.waldofuneralhome.com
DTSTAMP:20260421T204237Z
DTSTART:20260502T170000Z
DTEND:20260502T180000Z
SUMMARY:Memorial Service
DESCRIPTION:
URL:https://www.waldofuneralhome.com/obituaries/genevieve-lanham
LOCATION:Leap of Faith Church 5615 Farm to Market Road 1417  Sherman TX 
	75092
GEO:33.7056163;-96.6478501
END:VEVENT
END:VCALENDAR