BEGIN:VCALENDAR
VERSION:2.0
PRODID:-//Tukios.com/
BEGIN:VEVENT
UID:1ed8a3df-89be-4dfe-9a34-597f9c38a5fa@www.waldofuneralhome.com
DTSTAMP:20260421T173008Z
DTSTART:20260428T233000Z
DTEND:20260429T003000Z
SUMMARY:Memorial Service
DESCRIPTION:
URL:https://www.waldofuneralhome.com/obituaries/james-jim-eversole
LOCATION: 619 N Travis St  Sherman TX 75090
GEO:33.6421333;-96.6106504
END:VEVENT
END:VCALENDAR