BEGIN:VCALENDAR
VERSION:2.0
PRODID:-//Tukios.com/
BEGIN:VEVENT
UID:f0dc60a2-d537-4774-8c72-4e228b6de67b@www.waldofuneralhome.com
DTSTAMP:20260421T035145Z
DTSTART:20260423T154500Z
DTEND:20260423T164500Z
SUMMARY:Visitation
DESCRIPTION:
URL:https://www.waldofuneralhome.com/obituaries/ovid-cole
LOCATION: 611 North Travis Street  Sherman TX 75090
GEO:33.6418047;-96.610673
END:VEVENT
END:VCALENDAR