BEGIN:VCALENDAR
VERSION:2.0
PRODID:-//Tukios.com/
BEGIN:VEVENT
UID:1296cff6-c300-4801-91c1-d5d309970037@www.waldofuneralhome.com
DTSTAMP:20260421T035636Z
DTSTART:20260423T150000Z
DTEND:20260423T160000Z
SUMMARY:Celebration of Life
DESCRIPTION:
URL:https://www.waldofuneralhome.com/obituaries/ovid-cole
LOCATION: 619 N Travis St  Sherman TX 75090
GEO:33.6421333;-96.6106504
END:VEVENT
END:VCALENDAR