BEGIN:VCALENDAR
VERSION:2.0
PRODID:-//Tukios.com/
BEGIN:VEVENT
UID:3b23b167-8730-4408-b4fd-9b0f96ce1830@www.waldofuneralhome.com
DTSTAMP:20260422T024752Z
DTSTART:20260423T170000Z
DTEND:20260423T180000Z
SUMMARY:Visitation
DESCRIPTION:
URL:https://www.waldofuneralhome.com/obituaries/peggy-dagenais
LOCATION: 1830 West Washington Street  Sherman TX 75092
GEO:33.642449;-96.6358789
END:VEVENT
END:VCALENDAR