BEGIN:VCALENDAR
VERSION:2.0
PRODID:-//Tukios.com/
BEGIN:VEVENT
UID:a9d19146-81c1-4688-a1f9-56f16b799be5@www.waldofuneralhome.com
DTSTAMP:20260422T025028Z
DTSTART:20260423T180000Z
DTEND:20260423T190000Z
SUMMARY:Funeral Service
DESCRIPTION:Burial will follow at Cedarlawn Memorial Park
URL:https://www.waldofuneralhome.com/obituaries/peggy-dagenais
LOCATION: 1830 West Washington Street  Sherman TX 75092
GEO:33.642449;-96.6358789
END:VEVENT
END:VCALENDAR